BEGIN:VCALENDAR
VERSION:2.0
CALSCALE:GREGORIAN
BEGIN:VEVENT
DTSTAMP:20260421T163951
DTSTART:20260428T180000
DTEND:20260428T193000
SUMMARY:Spring Sips  Sugar Cookies  A Girls Night Cookie Experience
DESCRIPTION:Event Info: https://www.localwineevents.com/view/event/spring-sips-sugar-cookies-a-girls-night-cookie-experience/1000110
LOCATION:Salute Wine Bar -- 212 Carroll Street Fort Worth, TX 76107
STATUS:CONFIRMED
SEQUENCE:0
TRANSP:OPAQUE
END:VEVENT
END:VCALENDAR
