BEGIN:VCALENDAR
VERSION:2.0
CALSCALE:GREGORIAN
BEGIN:VEVENT
DTSTAMP:20260419T122529
DTSTART:20260428T190000
DTEND:20260428T210000
SUMMARY:Roman Night At La Pizza  La Pasta
DESCRIPTION:Event Info: https://www.localwineevents.com/view/event/roman-night-at-la-pizza-la-pasta/1000098
LOCATION:Eataly Aventura -- 19501 Biscayne Boulevard Aventura, FL 33180
STATUS:CONFIRMED
SEQUENCE:0
TRANSP:OPAQUE
END:VEVENT
END:VCALENDAR
