BEGIN:VCALENDAR
VERSION:2.0
CALSCALE:GREGORIAN
BEGIN:VEVENT
DTSTAMP:20260420T175542
DTSTART:20260428T083000
DTEND:20260428T130000
SUMMARY:Laffort Rendezvous - Paso Robles
DESCRIPTION:Event Info: https://www.localwineevents.com/view/event/laffort-rendezvous---paso-robles/1000092
LOCATION:Opolo Vineyards -- 7110 Vineyard Drive Paso Robles, CA 93446
STATUS:CONFIRMED
SEQUENCE:0
TRANSP:OPAQUE
END:VEVENT
END:VCALENDAR
