BEGIN:VCALENDAR
VERSION:2.0
CALSCALE:GREGORIAN
BEGIN:VEVENT
DTSTAMP:20260422T195109
DTSTART:20260428T183000
DTEND:20260428T203000
SUMMARY:Wine Tasting W/ Charcuterie
DESCRIPTION:Event Info: https://www.localwineevents.com/view/event/wine-tasting-w-charcuterie/1000089
LOCATION:The Treasured Olive -- 52 4th Street Northwest Winter Haven, FL 33881
STATUS:CONFIRMED
SEQUENCE:0
TRANSP:OPAQUE
END:VEVENT
END:VCALENDAR
