BEGIN:VCALENDAR
VERSION:2.0
CALSCALE:GREGORIAN
BEGIN:VEVENT
DTSTAMP:20260422T233835
DTSTART:20260428T180000
DTEND:20260428T201500
SUMMARY:A Wine Blending Workshop At CityArts - April 28
DESCRIPTION:Event Info: https://www.localwineevents.com/view/event/a-wine-blending-workshop-at-cityarts---april-28/1000087
LOCATION:CityArts -- 39 South Magnolia Avenue Orlando, FL 32801
STATUS:CONFIRMED
SEQUENCE:0
TRANSP:OPAQUE
END:VEVENT
END:VCALENDAR
