BEGIN:VCALENDAR
VERSION:2.0
CALSCALE:GREGORIAN
BEGIN:VEVENT
DTSTAMP:20260421T163929
DTSTART:20260428T190000
DTEND:20260428T203000
SUMMARY:Premium Wine  Cheese + Charcuterie Pairing Class | Downtown McKinney
DESCRIPTION:Event Info: https://www.localwineevents.com/view/event/premium-wine-cheese-charcuterie-pairing-class-downtown-mckinney/1000086
LOCATION:Lone Star Winery -- 103 East Virginia Street McKinney, TX 75069
STATUS:CONFIRMED
SEQUENCE:0
TRANSP:OPAQUE
END:VEVENT
END:VCALENDAR
