BEGIN:VCALENDAR
VERSION:2.0
CALSCALE:GREGORIAN
BEGIN:VEVENT
DTSTAMP:20260422T233835
DTSTART:20260428T180000
DTEND:20260428T235900
SUMMARY:Stargirl Live Dinner With Veuve Clicquot Champagne Tasting
DESCRIPTION:Event Info: https://www.localwineevents.com/view/event/stargirl-live-dinner-with-veuve-clicquot-champagne-tasting/1000080
LOCATION:Debonair Supper Club -- 183 South Orange Avenue Orlando, FL 32801
STATUS:CONFIRMED
SEQUENCE:0
TRANSP:OPAQUE
END:VEVENT
END:VCALENDAR
