BEGIN:VCALENDAR
VERSION:2.0
CALSCALE:GREGORIAN
BEGIN:VEVENT
DTSTAMP:20260419T122535
DTSTART:20260426T173000
DTEND:20260427T040000
SUMMARY:SobeWetMiami : College Edition
DESCRIPTION:Event Info: https://www.localwineevents.com/view/event/sobewetmiami-college-edition/1000071
LOCATION:918 Ocean Dr -- 918 Ocean Drive Miami Beach, FL 33139
STATUS:CONFIRMED
SEQUENCE:0
TRANSP:OPAQUE
END:VEVENT
END:VCALENDAR
