BEGIN:VCALENDAR
VERSION:2.0
CALSCALE:GREGORIAN
BEGIN:VEVENT
DTSTAMP:20260424T062059
DTSTART:20260427T120000
DTEND:20260427T140000
SUMMARY:Cultura Y Comida: Mission District Food  Culture Tour
DESCRIPTION:Event Info: https://www.localwineevents.com/view/event/cultura-y-comida-mission-district-food-culture-tour/1000067
LOCATION:24th St Mission BART Plaza -- 2800 Mission Street San Francisco, CA 94110
STATUS:CONFIRMED
SEQUENCE:0
TRANSP:OPAQUE
END:VEVENT
END:VCALENDAR
