BEGIN:VCALENDAR
VERSION:2.0
CALSCALE:GREGORIAN
BEGIN:VEVENT
DTSTAMP:20260422T192652
DTSTART:20260427T170000
DTEND:20260427T183000
SUMMARY:Whiskey Tasting  Cocktail Class Experience
DESCRIPTION:Event Info: https://www.localwineevents.com/view/event/whiskey-tasting-cocktail-class-experience/1000059
LOCATION:Standard Proof Whiskey Company -- 219 Rep John Lewis Way North Nashville, TN 37219
STATUS:CONFIRMED
SEQUENCE:0
TRANSP:OPAQUE
END:VEVENT
END:VCALENDAR
