BEGIN:VCALENDAR
VERSION:2.0
CALSCALE:GREGORIAN
BEGIN:VEVENT
DTSTAMP:20260419T122529
DTSTART:20260427T120000
DTEND:20260427T150000
SUMMARY:Miami Wynwood Foodie Tour: A Complete Culinary Journey And Art
DESCRIPTION:Event Info: https://www.localwineevents.com/view/event/miami-wynwood-foodie-tour-a-complete-culinary-journey-and-art/1000050
LOCATION:102 NW 25th St -- 102 Northwest 25th Street Miami, FL 33127
STATUS:CONFIRMED
SEQUENCE:0
TRANSP:OPAQUE
END:VEVENT
END:VCALENDAR
