BEGIN:VCALENDAR
VERSION:2.0
CALSCALE:GREGORIAN
BEGIN:VEVENT
DTSTAMP:20260419T122532
DTSTART:20260427T190000
DTEND:20260427T220000
SUMMARY:Restaurant Of The Week: Miramar Dinner Meetup | DUOS EDITION
DESCRIPTION:Event Info: https://www.localwineevents.com/view/event/restaurant-of-the-week-miramar-dinner-meetup-duos-edition/1000048
LOCATION:Restaurant of the Week -- Miramar Parkway Miramar, FL 33025
STATUS:CONFIRMED
SEQUENCE:0
TRANSP:OPAQUE
END:VEVENT
END:VCALENDAR
