BEGIN:VCALENDAR
VERSION:2.0
CALSCALE:GREGORIAN
BEGIN:VEVENT
DTSTAMP:20260420T144535
DTSTART:20260427T190000
DTEND:20260427T220000
SUMMARY:The Comeunity Project: Frankfort | 30\'s Dinner
DESCRIPTION:Event Info: https://www.localwineevents.com/view/event/the-comeunity-project-frankfort-30s-dinner/1000044
LOCATION:Restaurant of the Week -- Wilkinson Boulevard Frankfort, KY 40601
STATUS:CONFIRMED
SEQUENCE:0
TRANSP:OPAQUE
END:VEVENT
END:VCALENDAR
