BEGIN:VCALENDAR
VERSION:2.0
CALSCALE:GREGORIAN
BEGIN:VEVENT
DTSTAMP:20260420T115640
DTSTART:20260427T190000
DTEND:20260427T220000
SUMMARY:Restaurant Of The Week: West Valley City Dinner Meetup | DUOS EDITION
DESCRIPTION:Event Info: https://www.localwineevents.com/view/event/restaurant-of-the-week-west-valley-city-dinner-meetup-duos-edition/1000043
LOCATION:Restaurant of the Week -- 3500 South West Valley City, UT 84120
STATUS:CONFIRMED
SEQUENCE:0
TRANSP:OPAQUE
END:VEVENT
END:VCALENDAR
