BEGIN:VCALENDAR
VERSION:2.0
CALSCALE:GREGORIAN
BEGIN:VEVENT
DTSTAMP:20260421T163928
DTSTART:20260427T180000
DTEND:20260427T200000
SUMMARY:Hands-On: Pasta Alla Carbonara
DESCRIPTION:Event Info: https://www.localwineevents.com/view/event/hands-on-pasta-alla-carbonara/1000034
LOCATION:Eataly Dallas -- 8687 North Central Expressway Dallas, TX 75225
STATUS:CONFIRMED
SEQUENCE:0
TRANSP:OPAQUE
END:VEVENT
END:VCALENDAR
