BEGIN:VCALENDAR
VERSION:2.0
CALSCALE:GREGORIAN
BEGIN:VEVENT
DTSTAMP:20260420T100648
DTSTART:20260427T180000
DTEND:20260427T213000
SUMMARY:Chatt Cup 2026
DESCRIPTION:Event Info: https://www.localwineevents.com/view/event/chatt-cup-2026/1000023
LOCATION:Fifty Fifty Wine and Martini Bar -- 43 Station Street Chattanooga, TN 37408
STATUS:CONFIRMED
SEQUENCE:0
TRANSP:OPAQUE
END:VEVENT
END:VCALENDAR
