BEGIN:VCALENDAR
VERSION:2.0
CALSCALE:GREGORIAN
BEGIN:VEVENT
DTSTAMP:20260424T062101
DTSTART:20260523T110000
DTEND:20260523T140000
SUMMARY:BottleRock Saturday Tasting At Blackbird Vineyards
DESCRIPTION:Event Info: https://www.localwineevents.com/view/event/bottlerock-saturday-tasting-at-blackbird-vineyards/1000002
LOCATION:Blackbird Vineyard Tank Room -- 831 Latour Ct Napa, CA 94558
STATUS:CONFIRMED
SEQUENCE:0
TRANSP:OPAQUE
END:VEVENT
END:VCALENDAR
