BEGIN:VCALENDAR
VERSION:2.0
CALSCALE:GREGORIAN
BEGIN:VEVENT
DTSTAMP:20260420T175735
DTSTART:20260503T110000
DTEND:20260503T130000
SUMMARY:Italian Brunch | Brunch And Bocci
DESCRIPTION:Event Info: https://www.localwineevents.com/view/event/italian-brunch-brunch-and-bocci/1000001
LOCATION:Seghesio Family Vineyards -- 700 Grove Street Healdsburg, CA 95448
STATUS:CONFIRMED
SEQUENCE:0
TRANSP:OPAQUE
END:VEVENT
END:VCALENDAR
