BEGIN:VCALENDAR
VERSION:2.0
CALSCALE:GREGORIAN
BEGIN:VEVENT
DTSTAMP:20260424T062046
DTSTART:20260509T100000
DTEND:20260509T150000
SUMMARY:Mother\'s Day Weekend Food  Wine Pairing
DESCRIPTION:Event Info: https://www.localwineevents.com/view/event/mothers-day-weekend-food-wine-pairing/1000000
LOCATION:ZD Wines -- 8383 Silverado Trail Napa, CA 94558
STATUS:CONFIRMED
SEQUENCE:0
TRANSP:OPAQUE
END:VEVENT
END:VCALENDAR
